BEGIN:VCALENDAR
VERSION:2.0
PRODID:-//WP EVENT Manager Ical//NONSGML Events//EN
CALSCALE:GREGORIAN
BEGIN:VTIMEZONE
TZID:Asia/Kolkata
BEGIN:STANDARD
DTSTART:19700101T000000
TZOFFSETFROM:+0530
TZOFFSETTO:+0530
END:STANDARD
END:VTIMEZONE
BEGIN:VEVENT
UID:69e735fcaddfe@avinievents.com
DTSTAMP:20260421T083156Z
DTSTART;TZID=Asia/Kolkata:19700101T000000
DTEND;TZID=Asia/Kolkata:20260421T235959
LOCATION:Online
SUMMARY:Avini Summer 2025 Summit
DESCRIPTION:August 14 -16, 2025																					Las Vegas, NV																																													Register Now																																																																																																																																							Join us on August 15th and 16th in Las Vegas for our sixth national Summit! We will have two full days packed with education, networking, and entertainment. We recommend coming on Thursday, August 14th, for early registration at our designated hotel, Tuscany Suites &amp; Casino in Las Vegas.We also have a distributor-focused training session for the Avini Business on August 14th. The training will be from 1 pm to 4 pm with speakers that can show you how to build a duplicatable business. You won&#8217;t want to miss this business training.We have a special Avini Health standard room rate at Tuscany Suites Las Vegas of $159.00 per night on Friday, August 15th and Saturday, August 16th plus tax/fees and $69.00 on all other days between Tuesday, August 12th and Monday, August 18th plus tax/fees.&nbsp;																																																																																																																																																					Included Meals																														Buffet style Continental Breakfast, Lunch and Dinner will be taking place during the summit! 																																																																																																														Shop for Avini Products																														You can buy our life-changing products right from the summit! Don&#039;t miss out on some of the best deals of the year!																																																																																																														Business Training																														Distributors can come on August 14th for the Business Training event. Meet the top distributors and learn how to supercharge your business.																																																																										Ticket Prices																									$149 per  Individual Distributor Ticket$199 per Individual Distributor Ticket with Business Training$249 per Couple Distributor Ticket$349  per Couple Distributor with Business Training All guest (Name Required) Summit attendees are $50 per person. 																																																																																															Tuscany Suites &amp; Casino in Las Vegas																									255 EAST FLAMINGO RD. LAS VEGAS, NEVADA 89169Discount is only available by clicking the link below. Do not call the Hotel. 																																																	Book Hotel By Clicking Here																																																																																																													Save on resort fees																														We have a special Avini Health standard room rate at Tuscany Suites Las Vegas of $159.00 per night on Friday, August 15th and Saturday, August 16th plus tax/fees and $69.00 on all other days between Tuesday, August 12th and Monday, August 18th plus tax/fees.&nbsp;Offer lasts for a limited time!																																																																																		                                                                                                                                                                                                                                                                                                                                                                                                                                                                                                                                                                                                                                                                                                                                                                                                                             Avini Health Regional in Nashville, TN                                                                                                                                                                                                                                                            by Avini Health                                                                                                                                                                                                                 2259                                            2259 people viewed this event.                                                                                              Paid                                                                                                                                                                                         https://avinievents.com/avini-2025-regional-tennessee/            Ticket Information                                                                                                                                                                            2025 Nashville Individual Distributor Ticket                                                                    &#036;20.00                                                                                                                                                Sales Ended: Saturday, October 11, 2025 04:30 PM                                                                                                                                                                                         -                                                                     Already registered for this event.                                                                                                                                                                        You must be an enrolled Distributor in order to purchase this ticket and must have a valid Distributor ID. All Sales are Final and No Refunds, name changes or Transfers once ticket is purchased.                                                                                                                                                                                                                                                                        2025 Nashville Guest-Regional Ticket                                                                    &#036;10.00                                                                                                                                                Sales Ended: Saturday, October 11, 2025 04:30 PM                                                                                                                                                                                         -                                                                     Already registered for this event.                                                                                                                                                                        All guests must have full name and email before purchasing ticket. No name changes or Transfers once ticket is purchased. Neither Fake Names nor Distributors Names will be allowed. Thank you! All Sales are Final and No Refunds on tickets purchased.                                                                                                                                                                                                                                                                        Order Now                                                                                                                                                                                                                                                                                                                                                                                                                                           												Register for event																		First Name									            Use same name as your Back Office    																Last Name									            Use same name as your Back Office    																Spouse First Name (optional)									            ONLY ADD IF Distributor Couples Ticket Purchased.    																Spouse Last Name (optional)									            ONLY ADD IF Distributor Couples Ticket Purchased.    																Distributor ID (optional)									            Back Office number under Team Dashboard    																Email									            Use same email as your Back Office    																Phone Number (optional)																									State																									City																								Send registration														                                                                                                                                                                        &nbsp;                                                                        Date And Time                                                                                                                        Saturday, October 11, 2025                                                @ 08:30 AM (EDT)                                                                                 to                                                                                        Saturday, October 11, 2025                                                @ 04:30 PM (EDT)                                                                                                                                                                                                                                                                                                                                                                                         &nbsp;                                        Location                                                                                                                                         Hilton Franklin Cool Springs 601 Corporate Centre Drive Franklin, TN 37067                                                                                                                                                                                                                                                                            &nbsp;                                        Event Types                                        Avini Special Events                                                                            &nbsp;                                        Event Category                                        Avini Special Events                                                                            &nbsp;                        Download Events iCal            				                                                                                                                                                                Add to Calendar                                                                                                                                                    Google Calendar                    iCalendar                    Outlook 365                    Outlook Live                                                                                                                                Share With Friends                                                                                                                                                                                                                    Facebook                                                                                                                                        Twitter                                                                                                                                        Linkedin                                                                                                                                        Xing                                                                                                                                        Pinterest                                                                                                                                                                                                                                                                                                                                                                                                                    Organizer                                                                                                                                                                                                                                                                                                                                                                                                                                                                                                                                                                                                                                                                                                                                                                                                                                                                Avini Health                                                                                                                                                                                                                                                                                                                                                                                                                                                                                                                                                                                                                                                                                                                                                                                                             More info                                                                Contact Organizer                                                                                                     Contact Organizer                                                                                                                                                                                                Contact Person Name*                                                                                                                                                                                                                                                                                                                                                                        Contact Person Email*                                                                                                                                                                                                                                                                                                                                                                        Contact Person Message*                                                                                                                                                                                                                                                                                                                                                                        Contact Person Phone No*                                                                                                                                                                                                                                                                                                                                                                                                   Cancel                                                                Send                                                                                                                                                                                                                                                                                                                                                                                                                         																																																																															Join us on August 14th through 16th in Las Vegas for our sixth national summit! We will have two full days packed with education, networking, and entertainment. We recommend coming on Thursday, March 6th, for early registration at our designated hotel, Tuscany Suites &amp; Casino in Las VegasWe have a special Avini Health standard room rate at Tuscany Suites Las Vegas of $199.00 per night on Friday, March 7th and Saturday, March 8th plus tax/fees and $89.00 on all other days between Tuesday, March 4th and Monday, March 10th plus tax/fees. 																																																																															Save on resort fees																														We have a special Avini Health standard room rate at Tuscany Suites Las Vegas of $199.00 per night on Friday, March 7th and Saturday, March 8th plus tax/fees and $89.00 on all other days between Tuesday, March 4th and Monday, March 10th plus tax/fees. Offer lasts for limited time!																																																																Book Hotel By Clicking Here																																							Ticket Prices																									Act fast—early bird pricing is only available Friday, January 24th until Sunday, Jan. 26th, Midnight Pacific time!$99 per Distributor Ticket$139 per Distributor Ticket with business training$169  per Distributor Couple$249  per Distributor Couple with buisness training All guest (Name Required) attendees will be $30.00 per person. 																																																																																																																																																																																																																																											August 14th - 16th, 2025																					Las Vegas, NV																									Join us on August 14th through 16th in Las Vegas for our sixth national summit! We will have two full days packed with education, networking, and entertainment. We recommend coming on Thursday, March 6th, for early registration at our designated hotel, Tuscany Suites &amp; Casino in Las VegasWe have a special Avini Health standard room rate at Tuscany Suites Las Vegas of $199.00 per night on Friday, March 7th and Saturday, March 8th plus tax/fees and $89.00 on all other days between Tuesday, March 4th and Monday, March 10th plus tax/fees. 																													Book Hotel By Clicking HereNO $50 Resort FeeLasts until Feb. 6th. 2025																									Ticket Prices																									Act fast—early bird pricing is only available Friday, January 24th until Sunday, Jan. 26th, Midnight Pacific time!$99 per Distributor Ticket$169  per Distributor Couple All guest (Name Required) attendees will be $30.00 per person.
END:VEVENT
END:VCALENDAR