BEGIN:VCALENDAR
VERSION:2.0
PRODID:-//WP EVENT Manager Ical//NONSGML Events//EN
CALSCALE:GREGORIAN
BEGIN:VTIMEZONE
TZID:Asia/Kolkata
BEGIN:STANDARD
DTSTART:19700101T000000
TZOFFSETFROM:+0530
TZOFFSETTO:+0530
END:STANDARD
END:VTIMEZONE
BEGIN:VEVENT
UID:69e4a52b511a2@avinievents.com
DTSTAMP:20260419T094931Z
DTSTART;TZID=Asia/Kolkata:20240803T080000
DTEND;TZID=Asia/Kolkata:20240803T215138
LOCATION:4902 S Oxbow Ave. Sioux Falls South Dakota
SUMMARY:Doug Dickey Meeting Sioux Falls SD
DESCRIPTION:VP of Sales Doug Dickey in person Meeting in Sioux Falls South Dakota.10:00 AM CDT Meeting4902 S Oxbow Ave. Sioux Falls South Dakota. Entrance at the Flag pole.Contact Judy Dejong at 712 541 4064.  
END:VEVENT
END:VCALENDAR